BEGIN:VCALENDAR
PRODID:-//AT Content Types//AT Event//EN
VERSION:1.0
BEGIN:VEVENT
DTSTART:20180601T230000Z
DTEND:20180602T225500Z
DCREATED:20180113T223239Z
UID:ATEvent-be47db10855042d88f37888fa5691e03
SEQUENCE:0
LAST-MODIFIED:20180113T223247Z
SUMMARY:First Holy Communion
PRIORITY:3
TRANSP:0
END:VEVENT
END:VCALENDAR
