BEGIN:VCALENDAR
PRODID:-//AT Content Types//AT Event//EN
VERSION:2.0
METHOD:PUBLISH
BEGIN:VEVENT
DTSTAMP:20260422T225428Z
CREATED:20180225T221953Z
UID:ATEvent-61e5fe7406b64c32ad830cd596f2c510
LAST-MODIFIED:20180225T222219Z
SUMMARY:P1/2 & P2 trip to Glamis Castle
DTSTART:20180312T090000Z
DTEND:20180312T151500Z
CLASS:PUBLIC
END:VEVENT
END:VCALENDAR
